BEGIN:VCALENDAR
VERSION:2.0
PRODID:-//RICH RICH - ECPv6.11.0.1//NONSGML v1.0//EN
CALSCALE:GREGORIAN
METHOD:PUBLISH
X-WR-CALNAME:RICH RICH
X-ORIGINAL-URL:https://richrichseattle.com
X-WR-CALDESC:Events for RICH RICH
REFRESH-INTERVAL;VALUE=DURATION:PT1H
X-Robots-Tag:noindex
X-PUBLISHED-TTL:PT1H
BEGIN:VTIMEZONE
TZID:America/Los_Angeles
BEGIN:DAYLIGHT
TZOFFSETFROM:-0800
TZOFFSETTO:-0700
TZNAME:PDT
DTSTART:20260308T100000
END:DAYLIGHT
BEGIN:STANDARD
TZOFFSETFROM:-0700
TZOFFSETTO:-0800
TZNAME:PST
DTSTART:20261101T090000
END:STANDARD
END:VTIMEZONE
BEGIN:VEVENT
DTSTART;TZID=America/Los_Angeles:20260220T200000
DTEND;TZID=America/Los_Angeles:20260221T020000
DTSTAMP:20260425T095612
CREATED:20260204T225440Z
LAST-MODIFIED:20260204T225440Z
UID:10000742-1771617600-1771639200@richrichseattle.com
SUMMARY:CLOSED 8pm-CLOSE for PRIVATE EVENT
DESCRIPTION:
URL:https://richrichseattle.com/event/closed-8pm-close-for-private-event/
LOCATION:Rich Rich\, 532 Queen Anne Ave. N\, Seattle\, WA\, 98109\, United States
ORGANIZER;CN="Rich Rich":MAILTO:info@richrichseattle.com
END:VEVENT
BEGIN:VEVENT
DTSTART;TZID=America/Los_Angeles:20260221T210000
DTEND;TZID=America/Los_Angeles:20260222T010000
DTSTAMP:20260425T095612
CREATED:20260204T225603Z
LAST-MODIFIED:20260204T225603Z
UID:10000743-1771707600-1771722000@richrichseattle.com
SUMMARY:CLUB MILK
DESCRIPTION:if you know\,  you know….
URL:https://richrichseattle.com/event/club-milk/
LOCATION:Rich Rich\, 532 Queen Anne Ave. N\, Seattle\, WA\, 98109\, United States
ORGANIZER;CN="Rich Rich":MAILTO:info@richrichseattle.com
END:VEVENT
END:VCALENDAR