BEGIN:VCALENDAR
VERSION:2.0
PRODID:-//RICH RICH - ECPv6.11.0.1//NONSGML v1.0//EN
CALSCALE:GREGORIAN
METHOD:PUBLISH
X-WR-CALNAME:RICH RICH
X-ORIGINAL-URL:https://richrichseattle.com
X-WR-CALDESC:Events for RICH RICH
REFRESH-INTERVAL;VALUE=DURATION:PT1H
X-Robots-Tag:noindex
X-PUBLISHED-TTL:PT1H
BEGIN:VTIMEZONE
TZID:America/Los_Angeles
BEGIN:DAYLIGHT
TZOFFSETFROM:-0800
TZOFFSETTO:-0700
TZNAME:PDT
DTSTART:20260308T100000
END:DAYLIGHT
BEGIN:STANDARD
TZOFFSETFROM:-0700
TZOFFSETTO:-0800
TZNAME:PST
DTSTART:20261101T090000
END:STANDARD
END:VTIMEZONE
BEGIN:VEVENT
DTSTART;TZID=America/Los_Angeles:20260207T223000
DTEND;TZID=America/Los_Angeles:20260208T010000
DTSTAMP:20260421T072010
CREATED:20260204T223931Z
LAST-MODIFIED:20260204T223931Z
UID:10000738-1770503400-1770512400@richrichseattle.com
SUMMARY:LACE CADENCE
DESCRIPTION:Join us and DJ LACE CADENCE for some R&B and Amapiano!
URL:https://richrichseattle.com/event/lace-cadence/
LOCATION:Rich Rich\, 532 Queen Anne Ave. N\, Seattle\, WA\, 98109\, United States
CATEGORIES:DJ
ORGANIZER;CN="Rich Rich":MAILTO:info@richrichseattle.com
END:VEVENT
BEGIN:VEVENT
DTSTART;TZID=America/Los_Angeles:20260227T220000
DTEND;TZID=America/Los_Angeles:20260228T013000
DTSTAMP:20260421T072010
CREATED:20260204T232059Z
LAST-MODIFIED:20260204T232059Z
UID:10000746-1772229600-1772242200@richrichseattle.com
SUMMARY:FOR THE RECROD W/ B LINE DOT
DESCRIPTION:B LINE DOT will be bringing you the best grooves\, bass\, and flips with FOR THE RECORD! \nEvery final Friday! \nNO COVER
URL:https://richrichseattle.com/event/for-the-recrod-w-b-line-dot/
LOCATION:Rich Rich\, 532 Queen Anne Ave. N\, Seattle\, WA\, 98109\, United States
CATEGORIES:DJ
ORGANIZER;CN="Rich Rich":MAILTO:info@richrichseattle.com
END:VEVENT
BEGIN:VEVENT
DTSTART;TZID=America/Los_Angeles:20260228T200000
DTEND;TZID=America/Los_Angeles:20260301T000000
DTSTAMP:20260421T072010
CREATED:20260204T232303Z
LAST-MODIFIED:20260204T232303Z
UID:10000747-1772308800-1772323200@richrichseattle.com
SUMMARY:MOTOWN BUSINESS W/ MIKE ILLVESTER
DESCRIPTION:DJ Mike Illvester here to boogie with us and play all the best Motown bangers! \nNO COVER
URL:https://richrichseattle.com/event/motown-business-w-mike-illvester-3/
LOCATION:Rich Rich\, 532 Queen Anne Ave. N\, Seattle\, WA\, 98109\, United States
CATEGORIES:DJ
ORGANIZER;CN="Rich Rich":MAILTO:info@richrichseattle.com
END:VEVENT
END:VCALENDAR