BEGIN:VCALENDAR
VERSION:2.0
PRODID:-//RICH RICH - ECPv6.11.0.1//NONSGML v1.0//EN
CALSCALE:GREGORIAN
METHOD:PUBLISH
X-WR-CALNAME:RICH RICH
X-ORIGINAL-URL:https://richrichseattle.com
X-WR-CALDESC:Events for RICH RICH
REFRESH-INTERVAL;VALUE=DURATION:PT1H
X-Robots-Tag:noindex
X-PUBLISHED-TTL:PT1H
BEGIN:VTIMEZONE
TZID:America/Los_Angeles
BEGIN:DAYLIGHT
TZOFFSETFROM:-0800
TZOFFSETTO:-0700
TZNAME:PDT
DTSTART:20240310T100000
END:DAYLIGHT
BEGIN:STANDARD
TZOFFSETFROM:-0700
TZOFFSETTO:-0800
TZNAME:PST
DTSTART:20241103T090000
END:STANDARD
END:VTIMEZONE
BEGIN:VEVENT
DTSTART;TZID=America/Los_Angeles:20241211T190000
DTEND;TZID=America/Los_Angeles:20241211T230000
DTSTAMP:20260422T080137
CREATED:20241211T031643Z
LAST-MODIFIED:20241211T032531Z
UID:10000389-1733943600-1733958000@richrichseattle.com
SUMMARY:Survivor Finalé Party
DESCRIPTION:
URL:https://richrichseattle.com/event/survivor-finale-party/
CATEGORIES:Sports
END:VEVENT
END:VCALENDAR