BEGIN:VCALENDAR
VERSION:2.0
PRODID:-//RICH RICH - ECPv6.11.0.1//NONSGML v1.0//EN
CALSCALE:GREGORIAN
METHOD:PUBLISH
X-ORIGINAL-URL:https://richrichseattle.com
X-WR-CALDESC:Events for RICH RICH
REFRESH-INTERVAL;VALUE=DURATION:PT1H
X-Robots-Tag:noindex
X-PUBLISHED-TTL:PT1H
BEGIN:VTIMEZONE
TZID:America/Los_Angeles
BEGIN:DAYLIGHT
TZOFFSETFROM:-0800
TZOFFSETTO:-0700
TZNAME:PDT
DTSTART:20250309T100000
END:DAYLIGHT
BEGIN:STANDARD
TZOFFSETFROM:-0700
TZOFFSETTO:-0800
TZNAME:PST
DTSTART:20251102T090000
END:STANDARD
END:VTIMEZONE
BEGIN:VEVENT
DTSTART;TZID=America/Los_Angeles:20251218T210000
DTEND;TZID=America/Los_Angeles:20251219T000000
DTSTAMP:20260419T082624
CREATED:20251210T231317Z
LAST-MODIFIED:20251210T231317Z
UID:10000723-1766091600-1766102400@richrichseattle.com
SUMMARY:JULIETTE
DESCRIPTION:Put on your boogie pants\, its time dance! Groove on in to some Funk\, Pop\, and Bop\, all brought to you by JULIETTE! \n  \nNO COVER
URL:https://richrichseattle.com/event/juliette-3/
LOCATION:Rich Rich\, 532 Queen Anne Ave. N\, Seattle\, WA\, 98109\, United States
ORGANIZER;CN="Rich Rich":MAILTO:info@richrichseattle.com
END:VEVENT
BEGIN:VEVENT
DTSTART;TZID=America/Los_Angeles:20251217T200000
DTEND;TZID=America/Los_Angeles:20251217T213000
DTSTAMP:20260419T082624
CREATED:20251210T230720Z
LAST-MODIFIED:20251210T230720Z
UID:10000722-1766001600-1766007000@richrichseattle.com
SUMMARY:SURVIVOR FINALE WATCH PARTY
DESCRIPTION:Come on in and close out the 49th season of Survivor with us! We’ll have drink specials and games for those ready to outwit outplay outlast!!
URL:https://richrichseattle.com/event/survivor-finale-watch-party/
LOCATION:Rich Rich\, 532 Queen Anne Ave. N\, Seattle\, WA\, 98109\, United States
ORGANIZER;CN="Rich Rich":MAILTO:info@richrichseattle.com
END:VEVENT
BEGIN:VEVENT
DTSTART;TZID=America/Los_Angeles:20251213T220000
DTEND;TZID=America/Los_Angeles:20251214T010000
DTSTAMP:20260419T082624
CREATED:20251210T230103Z
LAST-MODIFIED:20251210T230126Z
UID:10000721-1765663200-1765674000@richrichseattle.com
SUMMARY:CHRISTMAS DISCO
DESCRIPTION:Come out enjoy a fancy cocktail and some tasty bites with DJ MEMO! He’ll be playing some disco\, house\, and dance pop music along with some remixes and reinterpretations of your favorite Christmas classics. \nParty starts at 10. No cover\, no guest list. Just holly jolly music with naughty and nice people. We hope to see you there 😊
URL:https://richrichseattle.com/event/christmas-disco/
LOCATION:Rich Rich\, 532 Queen Anne Ave. N\, Seattle\, WA\, 98109\, United States
ORGANIZER;CN="Rich Rich":MAILTO:info@richrichseattle.com
END:VEVENT
BEGIN:VEVENT
DTSTART;TZID=America/Los_Angeles:20251212T213000
DTEND;TZID=America/Los_Angeles:20251213T010000
DTSTAMP:20260419T082624
CREATED:20251210T225934Z
LAST-MODIFIED:20251210T225934Z
UID:10000720-1765575000-1765587600@richrichseattle.com
SUMMARY:EVERYTHING'S NEAT
DESCRIPTION:A discreet speakeasy experience\, embodying Laidback Allure’s signature vibe\, perfect for those easing into the weekend.\n\n\n\nEverything’s Neat\, a low-key speakeasy experience reconnecting with Laidback Allure’s essence and returning to the foundation of cocktails\, conversations and community. With music ranging from your favorite Neo-Soul and R&B songs to jazzy hip hop and future beats that you’ll probably never hear elsewhere\, this evening can be used as pregame to start or the nightcap your Friday evening. \nAttire: Dress competitively! \nSpace is limited. A ticket purchase is your only guaranteed way of entry. Event is 21+ \n*tickets can be purchased: https://www.eventbrite.com/e/everythings-neat-tickets-1974527467809?aff=oddtdtcreator \nMusic currated by: Laidbackallure \nLaidback Allure reserve all rights to use any photography/ videography taken during the event for portfolio/ promotional usage without the expressed consent of guests. Your attendance to this event means you understand and approve of this.
URL:https://richrichseattle.com/event/everythings-neat-2/
LOCATION:Rich Rich\, 532 Queen Anne Ave. N\, Seattle\, WA\, 98109\, United States
ORGANIZER;CN="Rich Rich":MAILTO:info@richrichseattle.com
END:VEVENT
BEGIN:VEVENT
DTSTART;TZID=America/Los_Angeles:20251211T190000
DTEND;TZID=America/Los_Angeles:20251212T020000
DTSTAMP:20260419T082624
CREATED:20251210T225457Z
LAST-MODIFIED:20251210T225457Z
UID:10000719-1765479600-1765504800@richrichseattle.com
SUMMARY:PRIVATE BUYOUT
DESCRIPTION:Bar will close at 7pm for a private party. We apologize for any inconvenience.
URL:https://richrichseattle.com/event/private-buyout/
LOCATION:Rich Rich\, 532 Queen Anne Ave. N\, Seattle\, WA\, 98109\, United States
ORGANIZER;CN="Rich Rich":MAILTO:info@richrichseattle.com
END:VEVENT
BEGIN:VEVENT
DTSTART;TZID=America/Los_Angeles:20251210T200000
DTEND;TZID=America/Los_Angeles:20251210T213000
DTSTAMP:20260419T082624
CREATED:20251210T225136Z
LAST-MODIFIED:20251210T225136Z
UID:10000718-1765396800-1765402200@richrichseattle.com
SUMMARY:SURVIVOR WATCH PARTY
DESCRIPTION:Come watch the last two episodes of Survivor with us!!
URL:https://richrichseattle.com/event/survivor-watch-party-2/
LOCATION:Rich Rich\, 532 Queen Anne Ave. N\, Seattle\, WA\, 98109\, United States
ORGANIZER;CN="Rich Rich":MAILTO:info@richrichseattle.com
END:VEVENT
BEGIN:VEVENT
DTSTART;TZID=America/Los_Angeles:20251128T220000
DTEND;TZID=America/Los_Angeles:20251129T010000
DTSTAMP:20260419T082624
CREATED:20251119T223139Z
LAST-MODIFIED:20251119T223139Z
UID:10000717-1764367200-1764378000@richrichseattle.com
SUMMARY:MOTOWN BUSINESS W/ DJ MIKE ILLVESTER
DESCRIPTION:!NO COVER! \nBoogie on down and vibe to your favorite Motown tracks with us and DJ Mike Illvester!
URL:https://richrichseattle.com/event/motown-business-w-dj-mike-illvester-2/
LOCATION:Rich Rich\, 532 Queen Anne Ave. N\, Seattle\, WA\, 98109\, United States
CATEGORIES:DJ
ORGANIZER;CN="Rich Rich":MAILTO:info@richrichseattle.com
END:VEVENT
BEGIN:VEVENT
DTSTART;TZID=America/Los_Angeles:20251123T200000
DTEND;TZID=America/Los_Angeles:20251123T213000
DTSTAMP:20260419T082624
CREATED:20251112T215015Z
LAST-MODIFIED:20251112T215015Z
UID:10000716-1763928000-1763933400@richrichseattle.com
SUMMARY:BACK ALLEY BURLESQUE
DESCRIPTION:Come get cozy with us November 23rd for the fall edition of BackAlleyBurlesque at RICH RICH! Join Bettina May and Seattle’s Own Succubus @carson_st._clair for a fun\, intimate night. Show starts at 8pm\, come early and hang out after for fabulous drink specials from our partner for the evening\, Amaro Montenegro. \n  \n!NO COVER!
URL:https://richrichseattle.com/event/back-alley-burlesque-2/
LOCATION:Rich Rich\, 532 Queen Anne Ave. N\, Seattle\, WA\, 98109\, United States
CATEGORIES:Fun!
ORGANIZER;CN="Rich Rich":MAILTO:info@richrichseattle.com
END:VEVENT
BEGIN:VEVENT
DTSTART;TZID=America/Los_Angeles:20251120T210000
DTEND;TZID=America/Los_Angeles:20251121T010000
DTSTAMP:20260419T082624
CREATED:20251112T214723Z
LAST-MODIFIED:20251112T214723Z
UID:10000715-1763672400-1763686800@richrichseattle.com
SUMMARY:JULIETTE
DESCRIPTION:!NO COVER! \nJULIETTE is here to bring you some sick beats\, live bass\, and good times!
URL:https://richrichseattle.com/event/juliette-2/
LOCATION:Rich Rich\, 532 Queen Anne Ave. N\, Seattle\, WA\, 98109\, United States
CATEGORIES:DJ
ORGANIZER;CN="Rich Rich":MAILTO:info@richrichseattle.com
END:VEVENT
BEGIN:VEVENT
DTSTART;TZID=America/Los_Angeles:20251115T210000
DTEND;TZID=America/Los_Angeles:20251116T010000
DTSTAMP:20260419T082624
CREATED:20251112T214330Z
LAST-MODIFIED:20251112T214330Z
UID:10000714-1763240400-1763254800@richrichseattle.com
SUMMARY:SLIME SESSIONS
DESCRIPTION:The fall is perfect for the Slim Session. Low ambiance\, dim lights\, smooth wine\, and soothing tunes. Not something you’d want to miss as we roll into the fall season. Sounds carefully and thoughtfully curated by Slim. \n!NO COVER!
URL:https://richrichseattle.com/event/slime-sessions/
LOCATION:Rich Rich\, 532 Queen Anne Ave. N\, Seattle\, WA\, 98109\, United States
CATEGORIES:DJ
ORGANIZER;CN="Rich Rich":MAILTO:info@richrichseattle.com
END:VEVENT
BEGIN:VEVENT
DTSTART;TZID=America/Los_Angeles:20251114T210000
DTEND;TZID=America/Los_Angeles:20251115T010000
DTSTAMP:20260419T082624
CREATED:20251112T214103Z
LAST-MODIFIED:20251112T214103Z
UID:10000713-1763154000-1763168400@richrichseattle.com
SUMMARY:LAID BACK ALLURE PRESENTS: EVERYTHING'S NEAT
DESCRIPTION:Every second Friday of the month\, we’re at the speakeasy RICH RICH\, November 14th in Queen Anne/Uptown from 9PM-1AM. 🍸 \nAttire: Dress Competitively\nAudio Experience – Soulection Sounds\nTickets: https://www.eventbrite.com/e/everythings-neat-tickets-1860499948429?aff=oddtdtcreator \n  \n  \n 
URL:https://richrichseattle.com/event/laid-back-allure-presents-everythings-neat-2/
LOCATION:Rich Rich\, 532 Queen Anne Ave. N\, Seattle\, WA\, 98109\, United States
CATEGORIES:DJ,Fun!
ORGANIZER;CN="Rich Rich":MAILTO:info@richrichseattle.com
END:VEVENT
BEGIN:VEVENT
DTSTART;TZID=America/Los_Angeles:20251113T210000
DTEND;TZID=America/Los_Angeles:20251114T000000
DTSTAMP:20260419T082624
CREATED:20251112T213818Z
LAST-MODIFIED:20251112T213818Z
UID:10000712-1763067600-1763078400@richrichseattle.com
SUMMARY:UK MIXOLOGY W/ DJ B LINE DOT
DESCRIPTION:!NO COVER! \nUK Garage\, Breakbeat and House!!
URL:https://richrichseattle.com/event/uk-mixology-w-dj-b-line-dot/
LOCATION:Rich Rich\, 532 Queen Anne Ave. N\, Seattle\, WA\, 98109\, United States
CATEGORIES:DJ
ORGANIZER;CN="Rich Rich":MAILTO:info@richrichseattle.com
END:VEVENT
BEGIN:VEVENT
DTSTART;TZID=America/Los_Angeles:20251031T210000
DTEND;TZID=America/Los_Angeles:20251101T010000
DTSTAMP:20260419T082624
CREATED:20251009T002843Z
LAST-MODIFIED:20251009T002843Z
UID:10000709-1761944400-1761958800@richrichseattle.com
SUMMARY:!!NEVERMORE PROM!!
DESCRIPTION:🍹 Special Halloween cocktail menu from RICH RICH\n🍸 Signature batch cocktail by HELLO LINE DOT\n💀 Ghouls\, glam\, and supernatural prom vibes\n🎶 DJs + dancing all night long
URL:https://richrichseattle.com/event/nevermore-prom/
LOCATION:Rich Rich\, 532 Queen Anne Ave. N\, Seattle\, WA\, 98109\, United States
ORGANIZER;CN="Rich Rich":MAILTO:info@richrichseattle.com
END:VEVENT
BEGIN:VEVENT
DTSTART;TZID=America/Los_Angeles:20251030T210000
DTEND;TZID=America/Los_Angeles:20251031T010000
DTSTAMP:20260419T082624
CREATED:20251009T002500Z
LAST-MODIFIED:20251009T002500Z
UID:10000708-1761858000-1761872400@richrichseattle.com
SUMMARY:SOFT CIRCUIT W/ 40MM
DESCRIPTION:R&B\, Hip Hop\, Rap\, Afrobeats\, Amapiano and more!!
URL:https://richrichseattle.com/event/soft-circuit-w-40mm/
LOCATION:Rich Rich\, 532 Queen Anne Ave. N\, Seattle\, WA\, 98109\, United States
ORGANIZER;CN="Rich Rich":MAILTO:info@richrichseattle.com
END:VEVENT
BEGIN:VEVENT
DTSTART;TZID=America/Los_Angeles:20251025T200000
DTEND;TZID=America/Los_Angeles:20251026T003000
DTSTAMP:20260419T082624
CREATED:20251009T001757Z
LAST-MODIFIED:20251009T001757Z
UID:10000705-1761422400-1761438600@richrichseattle.com
SUMMARY:DIVA vs. THE DJ
DESCRIPTION:We’re baaaaaaaaack! 😈 The ghouls le disco return for Diva vs. the DJ: Halloween Edition at @richrichseattle! \nWhat is Diva vs. the DJ? Well\, little ghosts and goblins\, we’re so glad you asked! Act one features the divas performing their best spooky numbers\, but in act two all hell breaks loose as the DJ haunts our divas by randomly selecting one of three spooky tracks for them to perform. It’s a drag roulette and improv show straight out of our diva’s nightmares\, who will come out on top?! \nOur featured performers this month are the bewitching beauty @lily__addams and the villain of Seattle @missclaravoyance! These divas join our horror of a hostess @theharperbizarre and the devilishly handsome @itsdjmemo for a scintillating show you won’t want to miss. And the freaky fun doesn’t stop there as DJ Memo hits the decks immediately following the show for a dance party that will have every monster mashing! \nThis is a free show\, though space is limited so make sure you RSVP and show up early to get on the ghoul\, sorry\, guest list. We’ll see you there\, creatures of the night! 👻\n.\n.
URL:https://richrichseattle.com/event/diva-vs-the-dj-2/
LOCATION:Rich Rich\, 532 Queen Anne Ave. N\, Seattle\, WA\, 98109\, United States
ORGANIZER;CN="Rich Rich":MAILTO:info@richrichseattle.com
END:VEVENT
BEGIN:VEVENT
DTSTART;TZID=America/Los_Angeles:20251022T180000
DTEND;TZID=America/Los_Angeles:20251022T200000
DTSTAMP:20260419T082624
CREATED:20251001T222544Z
LAST-MODIFIED:20251009T001117Z
UID:10000702-1761156000-1761163200@richrichseattle.com
SUMMARY:DRINK AND DRAW
DESCRIPTION:Live figure drawing! Some will be provided\, but you are encouraged to bring your own art supplies! \nNO COVER
URL:https://richrichseattle.com/event/drink-and-draw-2/
LOCATION:Rich Rich\, 532 Queen Anne Ave. N\, Seattle\, WA\, 98109\, United States
ORGANIZER;CN="Rich Rich":MAILTO:info@richrichseattle.com
END:VEVENT
BEGIN:VEVENT
DTSTART;TZID=America/Los_Angeles:20251021T190000
DTEND;TZID=America/Los_Angeles:20251021T213000
DTSTAMP:20260419T082624
CREATED:20251009T001547Z
LAST-MODIFIED:20251009T001547Z
UID:10000704-1761073200-1761082200@richrichseattle.com
SUMMARY:BRAIN ROT TUESDAY: Ma
DESCRIPTION:Come on in and rot your brain with us!
URL:https://richrichseattle.com/event/brain-rot-tuesday-ma/
LOCATION:Rich Rich\, 532 Queen Anne Ave. N\, Seattle\, WA\, 98109\, United States
ORGANIZER;CN="Rich Rich":MAILTO:info@richrichseattle.com
END:VEVENT
BEGIN:VEVENT
DTSTART;TZID=America/Los_Angeles:20251017T223000
DTEND;TZID=America/Los_Angeles:20251018T020000
DTSTAMP:20260419T082624
CREATED:20251015T205814Z
LAST-MODIFIED:20251015T205814Z
UID:10000711-1760740200-1760752800@richrichseattle.com
SUMMARY:DJ B LINE DOT
DESCRIPTION:UK Garage\, Breakbeat\, and House!
URL:https://richrichseattle.com/event/dj-b-line-dot/
LOCATION:Rich Rich\, 532 Queen Anne Ave. N\, Seattle\, WA\, 98109\, United States
ORGANIZER;CN="Rich Rich":MAILTO:info@richrichseattle.com
END:VEVENT
BEGIN:VEVENT
DTSTART;TZID=America/Los_Angeles:20251016T210000
DTEND;TZID=America/Los_Angeles:20251017T010000
DTSTAMP:20260419T082624
CREATED:20251009T002205Z
LAST-MODIFIED:20251009T002205Z
UID:10000707-1760648400-1760662800@richrichseattle.com
SUMMARY:JULIETTE / DUA LIPA AFTER PARTY
DESCRIPTION:Come on in and keep the vibes going after Dua Lipa!
URL:https://richrichseattle.com/event/juliette-dua-lipa-after-party/
LOCATION:Rich Rich\, 532 Queen Anne Ave. N\, Seattle\, WA\, 98109\, United States
ORGANIZER;CN="Rich Rich":MAILTO:info@richrichseattle.com
END:VEVENT
BEGIN:VEVENT
DTSTART;TZID=America/Los_Angeles:20251014T190000
DTEND;TZID=America/Los_Angeles:20251014T213000
DTSTAMP:20260419T082624
CREATED:20251009T001314Z
LAST-MODIFIED:20251009T001314Z
UID:10000703-1760468400-1760477400@richrichseattle.com
SUMMARY:BRAIN ROT TUESDAY: Jennifer's Body
DESCRIPTION:Come on in and rot your brain with us!
URL:https://richrichseattle.com/event/brain-rot-tuesday-jennifers-body/
LOCATION:Rich Rich\, 532 Queen Anne Ave. N\, Seattle\, WA\, 98109\, United States
ORGANIZER;CN="Rich Rich":MAILTO:info@richrichseattle.com
END:VEVENT
BEGIN:VEVENT
DTSTART;TZID=America/Los_Angeles:20251011T210000
DTEND;TZID=America/Los_Angeles:20251012T010000
DTSTAMP:20260419T082624
CREATED:20251009T001928Z
LAST-MODIFIED:20251009T001928Z
UID:10000706-1760216400-1760230800@richrichseattle.com
SUMMARY:SLIM SESSION
DESCRIPTION:Come enjoy an audio experience carefully curated and designed by Slim!
URL:https://richrichseattle.com/event/slim-session-3/
LOCATION:Rich Rich\, 532 Queen Anne Ave. N\, Seattle\, WA\, 98109\, United States
ORGANIZER;CN="Rich Rich":MAILTO:info@richrichseattle.com
END:VEVENT
BEGIN:VEVENT
DTSTART;TZID=America/Los_Angeles:20251010T210000
DTEND;TZID=America/Los_Angeles:20251011T010000
DTSTAMP:20260419T082624
CREATED:20251001T222223Z
LAST-MODIFIED:20251001T222223Z
UID:10000701-1760130000-1760144400@richrichseattle.com
SUMMARY:EVERYTHING'S NEAT
DESCRIPTION:🥂 Mature Elegance brought to you by @laidbackallure\nFormally known as “The Social Club”
URL:https://richrichseattle.com/event/everythings-neat/
LOCATION:Rich Rich\, 532 Queen Anne Ave. N\, Seattle\, WA\, 98109\, United States
ORGANIZER;CN="Rich Rich":MAILTO:info@richrichseattle.com
END:VEVENT
BEGIN:VEVENT
DTSTART;TZID=America/Los_Angeles:20251009T210000
DTEND;TZID=America/Los_Angeles:20251010T000000
DTSTAMP:20260419T082624
CREATED:20251001T221948Z
LAST-MODIFIED:20251001T221948Z
UID:10000700-1760043600-1760054400@richrichseattle.com
SUMMARY:MIXOLOGY W/ B LINE DOT
DESCRIPTION:NO COVER \nUK Garage\, Breakbeat\, House
URL:https://richrichseattle.com/event/mixology-w-b-line-dot-2/
LOCATION:Rich Rich\, 532 Queen Anne Ave. N\, Seattle\, WA\, 98109\, United States
ORGANIZER;CN="Rich Rich":MAILTO:info@richrichseattle.com
END:VEVENT
BEGIN:VEVENT
DTSTART;TZID=America/Los_Angeles:20251008T080000
DTEND;TZID=America/Los_Angeles:20251008T170000
DTSTAMP:20260419T082624
CREATED:20251009T003324Z
LAST-MODIFIED:20251009T003324Z
UID:10000710-1759910400-1759942800@richrichseattle.com
SUMMARY:MOTOWN BUSINESS
DESCRIPTION:Swing by for Industry Night: 20% off entire tab for industry homies!! \nALSO DJ Mike Illvester will being playing those Motown hits!
URL:https://richrichseattle.com/event/motown-business-4/
LOCATION:Rich Rich\, 532 Queen Anne Ave. N\, Seattle\, WA\, 98109\, United States
ORGANIZER;CN="Rich Rich":MAILTO:info@richrichseattle.com
END:VEVENT
BEGIN:VEVENT
DTSTART;TZID=America/Los_Angeles:20251004T223000
DTEND;TZID=America/Los_Angeles:20251005T010000
DTSTAMP:20260419T082624
CREATED:20251001T221629Z
LAST-MODIFIED:20251001T221629Z
UID:10000699-1759617000-1759626000@richrichseattle.com
SUMMARY:LOUNGIN' W/ LACE CADENCE
DESCRIPTION:NO COVER \nHouse RnB & Amapiano
URL:https://richrichseattle.com/event/loungin-w-lace-cadence/
LOCATION:Rich Rich\, 532 Queen Anne Ave. N\, Seattle\, WA\, 98109\, United States
CATEGORIES:DJ
ORGANIZER;CN="Rich Rich":MAILTO:info@richrichseattle.com
END:VEVENT
BEGIN:VEVENT
DTSTART;TZID=America/Los_Angeles:20251003T210000
DTEND;TZID=America/Los_Angeles:20251004T013000
DTSTAMP:20260419T082624
CREATED:20251001T221323Z
LAST-MODIFIED:20251001T221323Z
UID:10000698-1759525200-1759541400@richrichseattle.com
SUMMARY:ALTE CRUISE
DESCRIPTION:We’re back at Rich Rich\, taking you on the second trip of the Alté Cruise. We’re celebrating Nigerian Independence Day. Come in green and a touch of gold ✨ Doors open 9pm \nNO COVER
URL:https://richrichseattle.com/event/alte-cruise/
LOCATION:Rich Rich\, 532 Queen Anne Ave. N\, Seattle\, WA\, 98109\, United States
CATEGORIES:DJ
ORGANIZER;CN="Rich Rich":MAILTO:info@richrichseattle.com
END:VEVENT
BEGIN:VEVENT
DTSTART;TZID=America/Los_Angeles:20250828T210000
DTEND;TZID=America/Los_Angeles:20250829T010000
DTSTAMP:20260419T082624
CREATED:20250827T222622Z
LAST-MODIFIED:20250827T222622Z
UID:10000697-1756414800-1756429200@richrichseattle.com
SUMMARY:4THELOVERS
DESCRIPTION:All across the Seattle area\, thousands of students are preparing for their first day of school. For them\, it’s a day they’ve been eagerly looking forward to. Unfortunately\, not every student has the supplies they need to start the school year right. This disadvantage can cause a domino effect that can be remarkably difficult to overcome. \nOn August 28th\, we return to Rich Rich for a special edition of 4THELOVERS. We’ll be taking donations for Project Cool as we spin our favorite R&B deep cuts. Sounds for this fundraiser are brought to you by resident DJs Mills and Matondo\, with our first ever guest\, Exis. \nLet’s start off Labor Day weekend right. Dance under the pink lights while supporting a great cause next Thursday. We owe it to our future. Donation link is in the bio. We’ll see you soon.
URL:https://richrichseattle.com/event/4thelovers/
LOCATION:Rich Rich\, 532 Queen Anne Ave. N\, Seattle\, WA\, 98109\, United States
CATEGORIES:DJ
ORGANIZER;CN="Rich Rich":MAILTO:info@richrichseattle.com
END:VEVENT
BEGIN:VEVENT
DTSTART;TZID=America/Los_Angeles:20250825T200000
DTEND;TZID=America/Los_Angeles:20250825T220000
DTSTAMP:20260419T082624
CREATED:20250814T003337Z
LAST-MODIFIED:20250814T004533Z
UID:10000695-1756152000-1756159200@richrichseattle.com
SUMMARY:GILLIGAN'S ISLAND TIKI NIGHT
DESCRIPTION:Brought to you by Ten to One Rum\, we’ll be serving our favorite tiki drinks and tuning into Gilligan’s Island! It’s industry night so our service industry friends get 20% off their entire tab!!
URL:https://richrichseattle.com/event/gilligans-island-tiki-night/
LOCATION:Rich Rich\, 532 Queen Anne Ave. N\, Seattle\, WA\, 98109\, United States
ORGANIZER;CN="Rich Rich":MAILTO:info@richrichseattle.com
END:VEVENT
BEGIN:VEVENT
DTSTART;TZID=America/Los_Angeles:20250821T210000
DTEND;TZID=America/Los_Angeles:20250822T000000
DTSTAMP:20260419T082624
CREATED:20250814T003020Z
LAST-MODIFIED:20250814T003020Z
UID:10000694-1755810000-1755820800@richrichseattle.com
SUMMARY:JULIETTE
DESCRIPTION:We got Juliette in the house dishing out some sick vibes to get you up and dancing! NO COVER!!
URL:https://richrichseattle.com/event/juliette/
LOCATION:Rich Rich\, 532 Queen Anne Ave. N\, Seattle\, WA\, 98109\, United States
CATEGORIES:DJ
ORGANIZER;CN="Rich Rich":MAILTO:info@richrichseattle.com
END:VEVENT
BEGIN:VEVENT
DTSTART;TZID=America/Los_Angeles:20250820T180000
DTEND;TZID=America/Los_Angeles:20250820T200000
DTSTAMP:20260419T082624
CREATED:20250814T000923Z
LAST-MODIFIED:20250814T000923Z
UID:10000693-1755712800-1755720000@richrichseattle.com
SUMMARY:DRINK AND DRAW
DESCRIPTION:Come have a cocktail and join our live figure drawing! Although some materials will be supplied\, we encourage you to bring your own! NO COVER!!
URL:https://richrichseattle.com/event/drink-and-draw/
LOCATION:Rich Rich\, 532 Queen Anne Ave. N\, Seattle\, WA\, 98109\, United States
CATEGORIES:Fun!
ORGANIZER;CN="Rich Rich":MAILTO:info@richrichseattle.com
END:VEVENT
END:VCALENDAR