BEGIN:VCALENDAR
VERSION:2.0
PRODID:-//RICH RICH - ECPv6.11.0.1//NONSGML v1.0//EN
CALSCALE:GREGORIAN
METHOD:PUBLISH
X-WR-CALNAME:RICH RICH
X-ORIGINAL-URL:https://richrichseattle.com
X-WR-CALDESC:Events for RICH RICH
REFRESH-INTERVAL;VALUE=DURATION:PT1H
X-Robots-Tag:noindex
X-PUBLISHED-TTL:PT1H
BEGIN:VTIMEZONE
TZID:America/Los_Angeles
BEGIN:DAYLIGHT
TZOFFSETFROM:-0800
TZOFFSETTO:-0700
TZNAME:PDT
DTSTART:20240310T100000
END:DAYLIGHT
BEGIN:STANDARD
TZOFFSETFROM:-0700
TZOFFSETTO:-0800
TZNAME:PST
DTSTART:20241103T090000
END:STANDARD
END:VTIMEZONE
BEGIN:VEVENT
DTSTART;TZID=America/Los_Angeles:20241021T200000
DTEND;TZID=America/Los_Angeles:20241021T230000
DTSTAMP:20260425T073605
CREATED:20241016T233839Z
LAST-MODIFIED:20241017T004321Z
UID:10000117-1729540800-1729551600@richrichseattle.com
SUMMARY:Fundraiser for Lebanon - drink and eat for a cause!
DESCRIPTION:We’re throwing a fundraiser for Lebanese Red Cross at Rich Rich that includes the awesome DJ Whodinii\, drink specials AND food specials from our beloved Hayati. Turn-up on a Monday for a cause!
URL:https://richrichseattle.com/event/fundraiser-for-lebanon-drink-and-eat-for-a-cause/
LOCATION:Rich Rich\, 532 Queen Anne Ave. N\, Seattle\, WA\, 98109\, United States
CATEGORIES:DJ
ORGANIZER;CN="Rich Rich":MAILTO:info@richrichseattle.com
END:VEVENT
BEGIN:VEVENT
DTSTART;TZID=America/Los_Angeles:20241018T190000
DTEND;TZID=America/Los_Angeles:20241019T000000
DTSTAMP:20260425T073605
CREATED:20241018T202455Z
LAST-MODIFIED:20241018T202643Z
UID:10000118-1729278000-1729296000@richrichseattle.com
SUMMARY:Sunday 10/20 Old Fashioned Honky Tonk with Elijah Craig
DESCRIPTION:A relief support drive for those affected by hurricane Helene! Bring any supplies you’re willing to donate to those in need or\, just bring your wonderful self and drink for a cause!
URL:https://richrichseattle.com/event/sunday-10-20-old-fashioned-honky-tonk-with-elijah-craig/
LOCATION:Rich Rich\, 532 Queen Anne Ave. N\, Seattle\, WA\, 98109\, United States
ORGANIZER;CN="Rich Rich":MAILTO:info@richrichseattle.com
END:VEVENT
BEGIN:VEVENT
DTSTART;VALUE=DATE:20241012
DTEND;VALUE=DATE:20241013
DTSTAMP:20260425T073605
CREATED:20240920T123941Z
LAST-MODIFIED:20240920T123941Z
UID:10000112-1728691200-1728777599@richrichseattle.com
SUMMARY:Closed for a private event. 11pm-close. Open before.
DESCRIPTION:We will be closed at 11pm for a private event! Please join us before for a drink!
URL:https://richrichseattle.com/event/closed-for-a-private-event-11pm-close-open-before/
LOCATION:Rich Rich\, 532 Queen Anne Ave. N\, Seattle\, WA\, 98109\, United States
END:VEVENT
BEGIN:VEVENT
DTSTART;VALUE=DATE:20241011
DTEND;VALUE=DATE:20241012
DTSTAMP:20260425T073605
CREATED:20240920T123729Z
LAST-MODIFIED:20240920T123804Z
UID:10000111-1728604800-1728691199@richrichseattle.com
SUMMARY:Private event from 8pm to close. Stop by before!
DESCRIPTION:Private event from 8pm to close. Stop by before!
URL:https://richrichseattle.com/event/private-event-from-8pm-to-close-stop-by-before/
LOCATION:Rich Rich\, 532 Queen Anne Ave. N\, Seattle\, WA\, 98109\, United States
END:VEVENT
BEGIN:VEVENT
DTSTART;TZID=America/Los_Angeles:20241005T210000
DTEND;TZID=America/Los_Angeles:20241006T010000
DTSTAMP:20260425T073605
CREATED:20240930T220314Z
LAST-MODIFIED:20240930T220314Z
UID:10000113-1728162000-1728176400@richrichseattle.com
SUMMARY:DJ Yonas
DESCRIPTION:We have DJ Yonas in house 9pm to 1pm! NO COVER
URL:https://richrichseattle.com/event/dj-yonas/
LOCATION:Rich Rich\, 532 Queen Anne Ave. N\, Seattle\, WA\, 98109\, United States
CATEGORIES:DJ
ORGANIZER;CN="Rich Rich":MAILTO:info@richrichseattle.com
END:VEVENT
BEGIN:VEVENT
DTSTART;TZID=America/Los_Angeles:20241005T160000
DTEND;TZID=America/Los_Angeles:20241005T200000
DTSTAMP:20260425T073605
CREATED:20240930T220625Z
LAST-MODIFIED:20240930T220842Z
UID:10000114-1728144000-1728158400@richrichseattle.com
SUMMARY:Private party until 8pm.
DESCRIPTION:We have a private birthday from 4-8pm and then we reopen to public at 8pm!
URL:https://richrichseattle.com/event/private-party-until-8pm/
LOCATION:Rich Rich\, 532 Queen Anne Ave. N\, Seattle\, WA\, 98109\, United States
ORGANIZER;CN="Rich Rich":MAILTO:info@richrichseattle.com
END:VEVENT
BEGIN:VEVENT
DTSTART;TZID=America/Los_Angeles:20241004T223000
DTEND;TZID=America/Los_Angeles:20241005T013000
DTSTAMP:20260425T073605
CREATED:20240920T123548Z
LAST-MODIFIED:20240920T123548Z
UID:10000110-1728081000-1728091800@richrichseattle.com
SUMMARY:Loungin' with Lace Cadence
DESCRIPTION:We’ll be LOUNGIN’ with Lace Cadence for another FIRST FRIDAY at Rich Rich! Catch the groove: House\, RnB\, Amapiano \nFriday\, 10/4\n10:30pm-1:30am\nNO COVER \nFind us off the alley on Mercer St\, next to T.S. McHugh’s. Look for that pink light 😉 \nLet’s weekend in STYLE.
URL:https://richrichseattle.com/event/loungin-with-lace-cadence-3/
LOCATION:Rich Rich\, 532 Queen Anne Ave. N\, Seattle\, WA\, 98109\, United States
CATEGORIES:DJ
ORGANIZER;CN="Rich Rich":MAILTO:info@richrichseattle.com
END:VEVENT
BEGIN:VEVENT
DTSTART;TZID=America/Los_Angeles:20240927T210000
DTEND;TZID=America/Los_Angeles:20240928T010000
DTSTAMP:20260425T073605
CREATED:20240920T122639Z
LAST-MODIFIED:20240920T122639Z
UID:10000109-1727470800-1727485200@richrichseattle.com
SUMMARY:"Unsectioned" with DJ Ragga
DESCRIPTION:UNSECTIONED! The ultimate inclusive night out with DJ Ragga. \nSaturday\, 9/27\n9pm-late\nNO COVER \nSay goodbye to VIP sections and hello to new connections\, great people and incredible music! \nExperience Seattle’s newest social event at Rich Rich\, where everyone’s invited to dance\, drink and interact. With top DJs spinning RnB Top 40\, House\, Hip Hop\, Afro-Beats & Amapiano\, this is the night you’ve been waiting for.
URL:https://richrichseattle.com/event/unsectioned-with-dj-ragga/
LOCATION:Rich Rich\, 532 Queen Anne Ave. N\, Seattle\, WA\, 98109\, United States
CATEGORIES:DJ
ATTACH;FMTTYPE=image/jpeg:https://richrichseattle.com/wp-content/uploads/2024/09/460223520_1511964729457615_963405319356009172_n.jpg
ORGANIZER;CN="Rich Rich":MAILTO:info@richrichseattle.com
END:VEVENT
BEGIN:VEVENT
DTSTART;VALUE=DATE:20240926
DTEND;VALUE=DATE:20240928
DTSTAMP:20260425T073605
CREATED:20240904T202549Z
LAST-MODIFIED:20240904T233818Z
UID:10000108-1727308800-1727481599@richrichseattle.com
SUMMARY:Albina Residency - film + music + Bakescapade
DESCRIPTION:KEXP Dj Albina meets our awesome food creators at Bakescapade meets video meets beverage to create an event you can’t miss!
URL:https://richrichseattle.com/event/albina-residency-film-music-bakescapade/
LOCATION:Rich Rich\, 532 Queen Anne Ave. N\, Seattle\, WA\, 98109\, United States
END:VEVENT
BEGIN:VEVENT
DTSTART;VALUE=DATE:20240924
DTEND;VALUE=DATE:20240926
DTSTAMP:20260425T073605
CREATED:20240904T202549Z
LAST-MODIFIED:20240904T233647Z
UID:10000107-1727136000-1727308799@richrichseattle.com
SUMMARY:90's event with Bounty Rum x Hpnotiq
DESCRIPTION:Bounty Rum is partnering with Rich Rich to invite DJ Hpnotiq in our space for a great time!
URL:https://richrichseattle.com/event/90s-event-with-bounty-rum-x-hpnotiq/
LOCATION:Rich Rich\, 532 Queen Anne Ave. N\, Seattle\, WA\, 98109\, United States
END:VEVENT
BEGIN:VEVENT
DTSTART;VALUE=DATE:20240921
DTEND;VALUE=DATE:20240922
DTSTAMP:20260425T073605
CREATED:20240904T202549Z
LAST-MODIFIED:20240920T122127Z
UID:10000106-1726876800-1726963199@richrichseattle.com
SUMMARY:Closed for private event 8p-11p. Open before & after.
DESCRIPTION:Closed for a private event. 8pm-11pm. Stop by before or after.
URL:https://richrichseattle.com/event/buyout-fpr-part-for-part-of-the-evening/
LOCATION:Rich Rich\, 532 Queen Anne Ave. N\, Seattle\, WA\, 98109\, United States
END:VEVENT
BEGIN:VEVENT
DTSTART;TZID=America/Los_Angeles:20240920T200000
DTEND;TZID=America/Los_Angeles:20240921T020000
DTSTAMP:20260425T073605
CREATED:20240904T202548Z
LAST-MODIFIED:20240920T121846Z
UID:10000105-1726862400-1726884000@richrichseattle.com
SUMMARY:Negroni Disco - A Negroni Week event
DESCRIPTION:Get excited! Will there be a cotton candy spagliato? Bicycle thief? Negroni slushie? Join us to find out! Plus Ruby Mimosa\, KEXP DJ night and Italian Disco! \nEnjoy Negroni week specials and a whole lot of fun as we turn Rich Rich into a retro Italian Disco Club.
URL:https://richrichseattle.com/event/negroni-week-event/
LOCATION:Rich Rich\, 532 Queen Anne Ave. N\, Seattle\, WA\, 98109\, United States
CATEGORIES:DJ
ATTACH;FMTTYPE=image/jpeg:https://richrichseattle.com/wp-content/uploads/2024/09/459321642_437563955967890_4659235667778971267_n.jpg
END:VEVENT
BEGIN:VEVENT
DTSTART;TZID=America/Los_Angeles:20240912T210000
DTEND;TZID=America/Los_Angeles:20240913T010000
DTSTAMP:20260425T073605
CREATED:20240904T202545Z
LAST-MODIFIED:20240904T202545Z
UID:10000101-1726174800-1726189200@richrichseattle.com
SUMMARY:DJ sAINT
DESCRIPTION:Join us to enjoy Dj sAINT \nThursday 09/12\n9pm-late\nNO COVER \nFind us off the alley on Mercer St\, next to T.S. McHugh’s. Look for that pink light 😉
URL:https://richrichseattle.com/event/dj-saint/
LOCATION:Rich Rich\, 532 Queen Anne Ave. N\, Seattle\, WA\, 98109\, United States
END:VEVENT
BEGIN:VEVENT
DTSTART;TZID=America/Los_Angeles:20240906T220000
DTEND;TZID=America/Los_Angeles:20240907T010000
DTSTAMP:20260425T073605
CREATED:20240904T202545Z
LAST-MODIFIED:20240904T202545Z
UID:10000100-1725660000-1725670800@richrichseattle.com
SUMMARY:Loungin' with Lace Cadence
DESCRIPTION:We’ll be LOUNGIN’ with Lace Cadence for another FIRST FRIDAY at Rich Rich! Catch the groove: House\, RnB\, Amapiano \nFriday\, 9/6\n10pm-1am\nNO COVER \nFind us off the alley on Mercer St\, next to T.S. McHugh’s. Look for that pink light 😉 \nLet’s weekend in STYLE.
URL:https://richrichseattle.com/event/loungin-with-lace-cadence-2/
LOCATION:Rich Rich\, 532 Queen Anne Ave. N\, Seattle\, WA\, 98109\, United States
END:VEVENT
BEGIN:VEVENT
DTSTART;TZID=America/Los_Angeles:20240730T190000
DTEND;TZID=America/Los_Angeles:20240730T220000
DTSTAMP:20260425T073605
CREATED:20240709T212427Z
LAST-MODIFIED:20240711T130533Z
UID:10000099-1722366000-1722376800@richrichseattle.com
SUMMARY:Rotation at Rich Rich! Presented by Hrvst House
DESCRIPTION:We’ve partnered with our friends at Hrvst House to create Rotation at Rich Rich. Playing what the people want! \nJoin us every Tuesday this Summer.  \nTuesday\, 7/30\n7 PM – late\nNO COVER
URL:https://richrichseattle.com/event/rotation-at-rich-rich-presented-by-hrvst-house-3/
LOCATION:Rich Rich\, 532 Queen Anne Ave. N\, Seattle\, WA\, 98109\, United States
ATTACH;FMTTYPE=image/jpeg:https://richrichseattle.com/wp-content/uploads/2024/07/rotation-2.jpg
END:VEVENT
BEGIN:VEVENT
DTSTART;TZID=America/Los_Angeles:20240723T190000
DTEND;TZID=America/Los_Angeles:20240723T220000
DTSTAMP:20260425T073605
CREATED:20240709T212427Z
LAST-MODIFIED:20240711T130511Z
UID:10000098-1721761200-1721772000@richrichseattle.com
SUMMARY:Rotation at Rich Rich! Presented by Hrvst House
DESCRIPTION:We’ve partnered with our friends at Hrvst House to create Rotation at Rich Rich. Playing what the people want! \nJoin us every Tuesday this Summer.  \nTuesday\, 7/23\n7 PM – late\nNO COVER
URL:https://richrichseattle.com/event/rotation-at-rich-rich-presented-by-hrvst-house-2/
LOCATION:Rich Rich\, 532 Queen Anne Ave. N\, Seattle\, WA\, 98109\, United States
ATTACH;FMTTYPE=image/jpeg:https://richrichseattle.com/wp-content/uploads/2024/07/rotation-1.jpg
END:VEVENT
BEGIN:VEVENT
DTSTART;TZID=America/Los_Angeles:20240716T190000
DTEND;TZID=America/Los_Angeles:20240716T220000
DTSTAMP:20260425T073605
CREATED:20240709T212427Z
LAST-MODIFIED:20240711T130456Z
UID:10000097-1721156400-1721167200@richrichseattle.com
SUMMARY:Rotation at Rich Rich! Presented by Hrvst House
DESCRIPTION:We’ve partnered with our friends at Hrvst House to create Rotation at Rich Rich. Playing what the people want! \nJoin us every Tuesday this Summer.  \nFriday\, 7/16\n7 PM – late\nNO COVER
URL:https://richrichseattle.com/event/rotation-at-rich-rich-presented-by-hrvst-house/
LOCATION:Rich Rich\, 532 Queen Anne Ave. N\, Seattle\, WA\, 98109\, United States
ATTACH;FMTTYPE=image/jpeg:https://richrichseattle.com/wp-content/uploads/2024/07/rotation-2.jpg
END:VEVENT
BEGIN:VEVENT
DTSTART;TZID=America/Los_Angeles:20240714T210000
DTEND;TZID=America/Los_Angeles:20240715T020000
DTSTAMP:20260425T073605
CREATED:20240709T212426Z
LAST-MODIFIED:20240711T130443Z
UID:10000096-1720990800-1721008800@richrichseattle.com
SUMMARY:Bastille Day with Gérard Bertrand
DESCRIPTION:We are excited to present Bastille Day\, a french Fête in partnership with Gérard Bertrand. Let’s keep with wine flowing and the vibes high with this day of celebration in honor of Trouble Wine and French Cancan!  \nSunday\, 7/14\n9pm-late\nNO COVER \nTunes with WaxWitch
URL:https://richrichseattle.com/event/bastille-day-with-gerard-bertrand/
LOCATION:Rich Rich\, 532 Queen Anne Ave. N\, Seattle\, WA\, 98109\, United States
ATTACH;FMTTYPE=image/jpeg:https://richrichseattle.com/wp-content/uploads/2024/07/wax-witch.jpg
END:VEVENT
BEGIN:VEVENT
DTSTART;TZID=America/Los_Angeles:20240713T220000
DTEND;TZID=America/Los_Angeles:20240714T020000
DTSTAMP:20260425T073605
CREATED:20240709T212424Z
LAST-MODIFIED:20240711T130236Z
UID:10000095-1720908000-1720922400@richrichseattle.com
SUMMARY:Waxwitch x Repoman DJ  Night
DESCRIPTION:“Party Monsters!\nwith Waxwitch & Repoman\nSpinning Electro – Indie Sleaze – Blog House \nJoin us Saturday\, 7/13\, 10pm – 1am\nNO COVER!”
URL:https://richrichseattle.com/event/waxwitch-x-repoman-dj-night/
LOCATION:Rich Rich\, 532 Queen Anne Ave. N\, Seattle\, WA\, 98109\, United States
ATTACH;FMTTYPE=image/jpeg:https://richrichseattle.com/wp-content/uploads/2024/07/wax-witch.jpg
END:VEVENT
BEGIN:VEVENT
DTSTART;TZID=America/Los_Angeles:20240712T210000
DTEND;TZID=America/Los_Angeles:20240713T020000
DTSTAMP:20260425T073605
CREATED:20241108T222424Z
LAST-MODIFIED:20241031T200757Z
UID:10000094-1720818000-1720836000@richrichseattle.com
SUMMARY:Everything's Neat - Presented by Laid Back Allure
DESCRIPTION:Imagine yourself at Everything’s Neat with a carefully crafted martini feeling well\, Rich! \nYour chance to do that is Friday\, July 12th at Rich Rich in partnership with Laid Back Allure.  \nFriday 7/12\n9pm-late\nRSVP required. Tickets can be purchased with Laid Back Allure.  \n• Attire: Dress Competitively\n• Eclectic Sounds Audio Experience\n• RSVP required. Tickets can be purchased on Laid Back Allure’s Instagram\, @laidbackallure
URL:https://richrichseattle.com/event/everythings-neat-presented-by-laid-back-allure/
LOCATION:Rich Rich\, 532 Queen Anne Ave. N\, Seattle\, WA\, 98109\, United States
CATEGORIES:DJ
ATTACH;FMTTYPE=image/jpeg:https://richrichseattle.com/wp-content/uploads/2024/07/everythings-neat.jpg
END:VEVENT
END:VCALENDAR